BEGIN:VCALENDAR
VERSION:2.0
PRODID:-//ddaysoftware.com//NONSGML DDay.iCal 1.0//EN
BEGIN:VTIMEZONE
TZID:W. Europe Standard Time
BEGIN:STANDARD
DTSTART:20251002T030000
RRULE:FREQ=YEARLY;BYDAY=-1SU;BYHOUR=3;BYMINUTE=0;BYMONTH=10
TZNAME:W. Europe Standard Time
TZOFFSETFROM:+0200
TZOFFSETTO:+0100
END:STANDARD
BEGIN:DAYLIGHT
DTSTART:20250301T020000
RRULE:FREQ=YEARLY;BYDAY=-1SU;BYHOUR=2;BYMINUTE=0;BYMONTH=3
TZNAME:W. Europe Daylight Time
TZOFFSETFROM:+0100
TZOFFSETTO:+0200
END:DAYLIGHT
END:VTIMEZONE
BEGIN:VEVENT
CATEGORIES:Projekte
CATEGORIES:Schultermin
DESCRIPTION:\n\nhttps://www.gs-steinwiesen.de/termine/baeume-pflanzen-3-kla
 ssen/
DTEND;VALUE=DATE:20260430
DTSTAMP:20260420T125144Z
DTSTART;VALUE=DATE:20260429
SEQUENCE:0
SUMMARY:Bäume pflanzen 3. Klassen
UID:34963
URL:https://www.gs-steinwiesen.de/termine/baeume-pflanzen-3-klassen/
END:VEVENT
END:VCALENDAR
