BEGIN:VCALENDAR
VERSION:2.0
PRODID:-//ddaysoftware.com//NONSGML DDay.iCal 1.0//EN
BEGIN:VTIMEZONE
TZID:W. Europe Standard Time
BEGIN:STANDARD
DTSTART:20251002T030000
RRULE:FREQ=YEARLY;BYDAY=-1SU;BYHOUR=3;BYMINUTE=0;BYMONTH=10
TZNAME:W. Europe Standard Time
TZOFFSETFROM:+0200
TZOFFSETTO:+0100
END:STANDARD
BEGIN:DAYLIGHT
DTSTART:20250301T020000
RRULE:FREQ=YEARLY;BYDAY=-1SU;BYHOUR=2;BYMINUTE=0;BYMONTH=3
TZNAME:W. Europe Daylight Time
TZOFFSETFROM:+0100
TZOFFSETTO:+0200
END:DAYLIGHT
END:VTIMEZONE
BEGIN:VEVENT
CATEGORIES:Projekte
DESCRIPTION:Präsentation der Kunstwerke unserer Schüler der Grundschule Ste
 inwiesen\n\nhttps://www.gs-steinwiesen.de/termine/familienfest-im-postgart
 en/
DTEND:20260502T150000
DTSTAMP:20260419T195655Z
DTSTART:20260502T140000
SEQUENCE:0
SUMMARY:Familienfest im Postgarten 
UID:34886
URL:https://www.gs-steinwiesen.de/termine/familienfest-im-postgarten/
END:VEVENT
BEGIN:VEVENT
CATEGORIES:Projekte
CATEGORIES:Schultermin
DESCRIPTION:\n\nhttps://www.gs-steinwiesen.de/termine/besuch-der-kreisbibli
 othek-4-klasse-2/
DTEND:20260518T090000
DTSTAMP:20260419T195655Z
DTSTART:20260518T080000
SEQUENCE:0
SUMMARY:Besuch der Kreisbibliothek 4. Klasse 
UID:34703
URL:https://www.gs-steinwiesen.de/termine/besuch-der-kreisbibliothek-4-klas
 se-2/
END:VEVENT
END:VCALENDAR
